BEGIN:VCALENDAR
VERSION:2.0
PRODID:-//Atomic Technical Institute//ATI Events//EN
CALSCALE:GREGORIAN
METHOD:PUBLISH
X-WR-CALNAME:ATI Upcoming Events
BEGIN:VEVENT
UID:a50be6a3-c7d3-4434-b137-719743f36357@atomictechnicalinstitute.com
DTSTAMP:20260422T105729Z
DTSTART:20260508T010000Z
DTEND:20260508T023000Z
SUMMARY:RCT & HPT Meet and Greet
DESCRIPTION:Meet the instructors\, tour the facility\, and hear about the R
 adiological Control and Health Physics Technician programs.\n\nMore: https:
 //atomictechnicalinstitute.com/events/rct-hpt-meet-and-greet-may-2026
LOCATION:Atomic Technical Institute\, 1835 Terminal Dr\, Suite 130\, Richla
 nd\, WA 99354
URL:https://atomictechnicalinstitute.com/events/rct-hpt-meet-and-greet-may-
 2026
END:VEVENT
BEGIN:VEVENT
UID:f0216504-3609-4f3d-bccf-4864ffb8135e@atomictechnicalinstitute.com
DTSTAMP:20260422T105729Z
DTSTART:20260514T040000Z
DTEND:20260514T053000Z
SUMMARY:RCT & HPT Meet and Greet
DESCRIPTION:Meet the instructors\, tour the facility\, and hear about the R
 adiological Control and Health Physics Technician programs.\n\nMore: https:
 //atomictechnicalinstitute.com/events/rct-hpt-meet-and-greet-may-2026-copy
LOCATION:Atomic Technical Institute\, 1835 Terminal Dr\, Suite 130\, Richla
 nd\, WA 99354
URL:https://atomictechnicalinstitute.com/events/rct-hpt-meet-and-greet-may-
 2026-copy
END:VEVENT
BEGIN:VEVENT
UID:23afafd7-bbd7-435c-90be-52295022865f@atomictechnicalinstitute.com
DTSTAMP:20260422T105729Z
DTSTART:20260521T110000Z
DTEND:20260521T123000Z
SUMMARY:RCT & HPT Meet and Greet
DESCRIPTION:Meet the instructors\, tour the facility\, and hear about the R
 adiological Control and Health Physics Technician programs.\n\nMore: https:
 //atomictechnicalinstitute.com/events/rct-hpt-meet-and-greet-may-2026-copy-
 3
LOCATION:Atomic Technical Institute\, 1835 Terminal Dr\, Suite 130\, Richla
 nd\, WA 99354
URL:https://atomictechnicalinstitute.com/events/rct-hpt-meet-and-greet-may-
 2026-copy-3
END:VEVENT
END:VCALENDAR