BEGIN:VCALENDAR
VERSION:2.0
PRODID:-//Atomic Technical Institute//ATI Events//EN
CALSCALE:GREGORIAN
METHOD:PUBLISH
X-WR-CALNAME:RCT & HPT Meet and Greet
BEGIN:VEVENT
UID:f0216504-3609-4f3d-bccf-4864ffb8135e@atomictechnicalinstitute.com
DTSTAMP:20260422T112235Z
DTSTART:20260514T040000Z
DTEND:20260514T053000Z
SUMMARY:RCT & HPT Meet and Greet
DESCRIPTION:Meet the instructors\, tour the facility\, and hear about the R
 adiological Control and Health Physics Technician programs.\n\nDetails: htt
 ps://atomictechnicalinstitute.com/events/rct-hpt-meet-and-greet-may-2026-co
 py
LOCATION:Atomic Technical Institute\, 1835 Terminal Dr\, Suite 130\, Richla
 nd\, WA 99354
URL:https://atomictechnicalinstitute.com/events/rct-hpt-meet-and-greet-may-
 2026-copy
END:VEVENT
END:VCALENDAR