BEGIN:VCALENDAR
VERSION:2.0
PRODID:-//Atomic Technical Institute//ATI Events//EN
CALSCALE:GREGORIAN
METHOD:PUBLISH
X-WR-CALNAME:TC Futures Career Day Expo
BEGIN:VEVENT
UID:6691fb22-6435-4b26-aa8d-edb47647e2db@atomictechnicalinstitute.com
DTSTAMP:20260423T224206Z
DTSTART:20260528T160000Z
DTEND:20260528T220000Z
SUMMARY:TC Futures Career Day Expo
DESCRIPTION:Help Students Explore Careers. Share Your Experience. Build the
  Future Workforce. TC Futures helps ages 1624 for GED preperation\, Trainin
 g Jobs and more. Further they have grants to help pay for training like we 
 offer at ATI. Come to the expo lean about TC Futures and ATI.\n\nDetails: h
 ttps://atomictechnicalinstitute.com/events/tc-futures-career-day-expo
LOCATION:825 N. Edison\, Kennewick WA 99336
URL:https://atomictechnicalinstitute.com/events/tc-futures-career-day-expo
END:VEVENT
END:VCALENDAR